BEGIN:VCALENDAR
VERSION:2.0
PRODID:-//100 Seeds Of Joy - ECPv6.15.17//NONSGML v1.0//EN
CALSCALE:GREGORIAN
METHOD:PUBLISH
X-ORIGINAL-URL:https://100seedsofjoy.com
X-WR-CALDESC:Events for 100 Seeds Of Joy
REFRESH-INTERVAL;VALUE=DURATION:PT1H
X-Robots-Tag:noindex
X-PUBLISHED-TTL:PT1H
BEGIN:VTIMEZONE
TZID:America/Toronto
BEGIN:DAYLIGHT
TZOFFSETFROM:-0500
TZOFFSETTO:-0400
TZNAME:EDT
DTSTART:20230312T070000
END:DAYLIGHT
BEGIN:STANDARD
TZOFFSETFROM:-0400
TZOFFSETTO:-0500
TZNAME:EST
DTSTART:20231105T060000
END:STANDARD
BEGIN:DAYLIGHT
TZOFFSETFROM:-0500
TZOFFSETTO:-0400
TZNAME:EDT
DTSTART:20240310T070000
END:DAYLIGHT
BEGIN:STANDARD
TZOFFSETFROM:-0400
TZOFFSETTO:-0500
TZNAME:EST
DTSTART:20241103T060000
END:STANDARD
BEGIN:DAYLIGHT
TZOFFSETFROM:-0500
TZOFFSETTO:-0400
TZNAME:EDT
DTSTART:20250309T070000
END:DAYLIGHT
BEGIN:STANDARD
TZOFFSETFROM:-0400
TZOFFSETTO:-0500
TZNAME:EST
DTSTART:20251102T060000
END:STANDARD
END:VTIMEZONE
BEGIN:VEVENT
DTSTART;TZID=America/Toronto:20240420T110000
DTEND;TZID=America/Toronto:20240420T123000
DTSTAMP:20260421T221412
CREATED:20240219T163449Z
LAST-MODIFIED:20240315T183803Z
UID:10004080-1713610800-1713616200@100seedsofjoy.com
SUMMARY:The Earth Power Within You - Clay Artwork Meditation For You and Your Garden
DESCRIPTION:An Earth day Special! \nJoin us for “The Earth Power Within You\,” a clay artwork meditation session to awaken your connection with Mother Earth in a creative and unique way. Meditate and learn about the root energy chakra and its connection to the Earth element\, all while creating a simple clay-based artifact for your garden. \nThis session is free and open to all ages! RSVP BELOW. \n\nDate: Saturday\, April 20th\nTime: 11 am to 12:30 pm\nLocation: Orchard Community Hub\, 2400 Sutton Dr.\, Burlington\, ON L7L 7A9 in St Christopher’s Catholic Elementary School\, entrance across Easton Road.\nCost: Free! (all materials will be provided)\n\nPlease enable JavaScript in your browser to complete this form.Name *FirstLastEmail *Are you attending?YesYes\, with a guestCommentsSubmit
URL:https://100seedsofjoy.com/event/saturday-april-20/
LOCATION:Orchard Community Hub\, 2400 Sutton Drive\, Burlington\, Ontario\, L7L 7A9\, Canada
CATEGORIES:2024,In-person Meditation
ATTACH;FMTTYPE=image/png:https://100seedsofjoy.com/wp-content/uploads/2024/02/clay-artwork-meditation-for-your-garden-3.png
END:VEVENT
END:VCALENDAR