BEGIN:VCALENDAR
VERSION:2.0
PRODID:-//100 Seeds Of Joy - ECPv6.15.17//NONSGML v1.0//EN
CALSCALE:GREGORIAN
METHOD:PUBLISH
X-WR-CALNAME:100 Seeds Of Joy
X-ORIGINAL-URL:https://100seedsofjoy.com
X-WR-CALDESC:Events for 100 Seeds Of Joy
REFRESH-INTERVAL;VALUE=DURATION:PT1H
X-Robots-Tag:noindex
X-PUBLISHED-TTL:PT1H
BEGIN:VTIMEZONE
TZID:America/Toronto
BEGIN:DAYLIGHT
TZOFFSETFROM:-0500
TZOFFSETTO:-0400
TZNAME:EDT
DTSTART:20230312T070000
END:DAYLIGHT
BEGIN:STANDARD
TZOFFSETFROM:-0400
TZOFFSETTO:-0500
TZNAME:EST
DTSTART:20231105T060000
END:STANDARD
BEGIN:DAYLIGHT
TZOFFSETFROM:-0500
TZOFFSETTO:-0400
TZNAME:EDT
DTSTART:20240310T070000
END:DAYLIGHT
BEGIN:STANDARD
TZOFFSETFROM:-0400
TZOFFSETTO:-0500
TZNAME:EST
DTSTART:20241103T060000
END:STANDARD
BEGIN:DAYLIGHT
TZOFFSETFROM:-0500
TZOFFSETTO:-0400
TZNAME:EDT
DTSTART:20250309T070000
END:DAYLIGHT
BEGIN:STANDARD
TZOFFSETFROM:-0400
TZOFFSETTO:-0500
TZNAME:EST
DTSTART:20251102T060000
END:STANDARD
END:VTIMEZONE
BEGIN:VEVENT
DTSTART;TZID=America/Toronto:20240429T100000
DTEND;TZID=America/Toronto:20240429T103000
DTSTAMP:20260421T221116
CREATED:20240428T145147Z
LAST-MODIFIED:20240428T145147Z
UID:10004156-1714384800-1714386600@100seedsofjoy.com
SUMMARY:Monday - TV Interview
DESCRIPTION:(Private Event)
URL:https://100seedsofjoy.com/event/monday-tv-interview/
CATEGORIES:2024,Cool Kids & Parents,In-person Meditation
END:VEVENT
BEGIN:VEVENT
DTSTART;TZID=America/Toronto:20240429T123000
DTEND;TZID=America/Toronto:20240429T130000
DTSTAMP:20260421T221116
CREATED:20240104T175100Z
LAST-MODIFIED:20240104T175203Z
UID:10002821-1714393800-1714395600@100seedsofjoy.com
SUMMARY:Free Online 30 minutes "Recharge" Weekday Lunch Meditation
DESCRIPTION:Join us online every weekday for a 30 minute guided lunchtime meditation.\nTake advantage of this session to relax\, de-stress and recharge your batteries. These sessions are FREE and for everyone. \nJoin using this Zoom Link: https://zoom.us/j/859102060
URL:https://100seedsofjoy.com/event/lunch-meditations-2024/2024-04-29/
LOCATION:Online
CATEGORIES:2024,Online,Online Meditation
ATTACH;FMTTYPE=image/png:https://100seedsofjoy.com/wp-content/uploads/2023/04/Lunch-Meditation-Photo.png
END:VEVENT
BEGIN:VEVENT
DTSTART;TZID=America/Toronto:20240429T190000
DTEND;TZID=America/Toronto:20240429T200000
DTSTAMP:20260421T221116
CREATED:20240428T142901Z
LAST-MODIFIED:20240428T142901Z
UID:10002259-1714417200-1714420800@100seedsofjoy.com
SUMMARY:CANCELLED - Monday Meditations in Oakville - Guided Meditation and Energy Workshops
DESCRIPTION:CANCELLED THIS WEEK – due to the room being used by the City of Oakville. \nJoin us for our weekly Monday meditation classes in Oakville! \nWhere? Glen Abbey Community Centre\, Room C\, 1415 Third Line\, Oakville\nTime? 7 pm – 8 pm\nDays? Every Monday!\nCost? Free! as they are priceless. They are offered with genuine love for Seekers from all walks of life. \n** No prior experience with meditation is necessary!\n** It is not “physical yoga”\, however it helps with the overall wellness and wellbeing.\n** Be open to trying something “new & different”.\n** Respectfulness is expected\n** Drop-ins welcome!
URL:https://100seedsofjoy.com/event/monday-meditations-in-oakville-guided-meditation-and-energy-workshops-2/
LOCATION:Glen Abbey Community Centre\, 1415 Third Line\, Oakville\, Ontario\, Canada
CATEGORIES:In-person Meditation
ATTACH;FMTTYPE=image/webp:https://100seedsofjoy.com/wp-content/uploads/2023/09/25461593-13CD-4178-9F4A-2E303F4F17DB.webp
END:VEVENT
END:VCALENDAR