BEGIN:VCALENDAR
VERSION:2.0
PRODID:-//100 Seeds Of Joy - ECPv6.15.17//NONSGML v1.0//EN
CALSCALE:GREGORIAN
METHOD:PUBLISH
X-ORIGINAL-URL:https://100seedsofjoy.com
X-WR-CALDESC:Events for 100 Seeds Of Joy
REFRESH-INTERVAL;VALUE=DURATION:PT1H
X-Robots-Tag:noindex
X-PUBLISHED-TTL:PT1H
BEGIN:VTIMEZONE
TZID:America/Toronto
BEGIN:DAYLIGHT
TZOFFSETFROM:-0500
TZOFFSETTO:-0400
TZNAME:EDT
DTSTART:20230312T070000
END:DAYLIGHT
BEGIN:STANDARD
TZOFFSETFROM:-0400
TZOFFSETTO:-0500
TZNAME:EST
DTSTART:20231105T060000
END:STANDARD
BEGIN:DAYLIGHT
TZOFFSETFROM:-0500
TZOFFSETTO:-0400
TZNAME:EDT
DTSTART:20240310T070000
END:DAYLIGHT
BEGIN:STANDARD
TZOFFSETFROM:-0400
TZOFFSETTO:-0500
TZNAME:EST
DTSTART:20241103T060000
END:STANDARD
BEGIN:DAYLIGHT
TZOFFSETFROM:-0500
TZOFFSETTO:-0400
TZNAME:EDT
DTSTART:20250309T070000
END:DAYLIGHT
BEGIN:STANDARD
TZOFFSETFROM:-0400
TZOFFSETTO:-0500
TZNAME:EST
DTSTART:20251102T060000
END:STANDARD
END:VTIMEZONE
BEGIN:VEVENT
DTSTART;TZID=America/Toronto:20240505T140000
DTEND;TZID=America/Toronto:20240505T160000
DTSTAMP:20260421T221311
CREATED:20240406T221403Z
LAST-MODIFIED:20240501T202507Z
UID:10004159-1714917600-1714924800@100seedsofjoy.com
SUMMARY:The Free Festival of New Beginnings (2024)
DESCRIPTION:Join us at our free annual Festival of New Beginnings on Sunday\, May 5th\, 2024!\n \n🌸 A Meaningful Multi-Cultural Community Celebration for Mother’s Day 🌸 \nAgenda:  \n\n🌿Guided Meditation\, Live Metis Dance and Live Music Performances\n🌀 Self Realization & Energy Flow Workshop\n✨ Collective Positive Affirmations for Peace on Earth\n🌍 Greek\, French\, Turkish\, Iranian Cultural Experiences\n\n\nGuest Artists:\nJoining us are special yogi guest artists from Montreal: \nEkaterina Lavrentyeva: Ukrainian Singer and Artist\, Recipient of the 2023 Heart in Action Award.Read more here (Click the link!) https://www.free-meditation.ca/archives/32408 \nÖzlem Gibeau: Dancer and Singer with Turkish Roots and Adopted by the Métis of Canada. Read more here (Click the link!):  https://www.free-meditation.ca/archives/32747 \n  \n\nEvent Details (RSVP below) \n\nDate: Sunday\, May 5th\, 2024\nTime: 2:00 PM – 4:00 PM\nVenue: Burlington Lions Club\nAddress: 471 Pearl St\, Burlington\, ON L7R 4M4\nFREE and OPEN to all\n\nPlease enable JavaScript in your browser to complete this form.Your Name *FirstLastEmail *How did you hear about us? *How many guests will you be bringing?\n\n\n\n	Selected Value: 5\nWhich event(s) are you interested in attending? Select any or all!Sat\, June 21 (8 am):FREE Gentle Yoga Flow with LIVE Bamboo Flute & Guided Meditation by the Lake (Spencer Smith Park Gazebo)Sat\, June 21 (9 am): A Moment of CollectiviTEA & FREE Chakra Energy Workshop by the Lake (Spencer Smith Park Gazebo)Sat\, June 21 (2 pm): Flow & Awaken: FREE Yoga & Meditation at Burlington Public Library (Central Branch)Sun\, June 22 (2 pm): FREE Festival of New Beginnings at The Burlington Lions Club (with musicians from The Netherlands!)Submit
URL:https://100seedsofjoy.com/event/festival-of-new-beginnings-2024/
LOCATION:Burlington Lions Club\, 471 Pearl St\, Burlington\, Ontario\, L7R 4M4\, Canada
CATEGORIES:2024,In-person Meditation
ATTACH;FMTTYPE=image/png:https://100seedsofjoy.com/wp-content/uploads/2024/04/FINAL-Banner-Version-Festival-of-New-Beginnings-With-photograph-NAME-2024.png
END:VEVENT
END:VCALENDAR