BEGIN:VCALENDAR
VERSION:2.0
PRODID:-//100 Seeds Of Joy - ECPv6.15.17//NONSGML v1.0//EN
CALSCALE:GREGORIAN
METHOD:PUBLISH
X-ORIGINAL-URL:https://100seedsofjoy.com
X-WR-CALDESC:Events for 100 Seeds Of Joy
REFRESH-INTERVAL;VALUE=DURATION:PT1H
X-Robots-Tag:noindex
X-PUBLISHED-TTL:PT1H
BEGIN:VTIMEZONE
TZID:America/Toronto
BEGIN:DAYLIGHT
TZOFFSETFROM:-0500
TZOFFSETTO:-0400
TZNAME:EDT
DTSTART:20230312T070000
END:DAYLIGHT
BEGIN:STANDARD
TZOFFSETFROM:-0400
TZOFFSETTO:-0500
TZNAME:EST
DTSTART:20231105T060000
END:STANDARD
BEGIN:DAYLIGHT
TZOFFSETFROM:-0500
TZOFFSETTO:-0400
TZNAME:EDT
DTSTART:20240310T070000
END:DAYLIGHT
BEGIN:STANDARD
TZOFFSETFROM:-0400
TZOFFSETTO:-0500
TZNAME:EST
DTSTART:20241103T060000
END:STANDARD
BEGIN:DAYLIGHT
TZOFFSETFROM:-0500
TZOFFSETTO:-0400
TZNAME:EDT
DTSTART:20250309T070000
END:DAYLIGHT
BEGIN:STANDARD
TZOFFSETFROM:-0400
TZOFFSETTO:-0500
TZNAME:EST
DTSTART:20251102T060000
END:STANDARD
END:VTIMEZONE
BEGIN:VEVENT
DTSTART;TZID=America/Toronto:20240615T110000
DTEND;TZID=America/Toronto:20240615T123000
DTSTAMP:20260422T013307
CREATED:20240219T163735Z
LAST-MODIFIED:20240614T192913Z
UID:10004084-1718449200-1718454600@100seedsofjoy.com
SUMMARY:Heart Opening Flow -- Father's Day & International Yoga Day Event
DESCRIPTION:Honour Father’s Day & International Yoga Day in a meaningful way\, leading to a Heart Opening Flow for your Self and Togetherness in the World. Let’s bring the attention within\, relax to find inner peace and the inner balance we all need. \nWe will start with gentle movements that will help us relax and open up with Mahima. Following this\, we will have a guided meditation session & learning seminar with self-realization and subtle chakra knowledge.  \nWhere: Orchard Community Hub located within St. Christopher’s Catholic Elementary School on 2400 Sutton Dr\, ON L7L 7A9 (entrance across Easton Road). \nWhen: Saturday\, June 15th at 11 am to 12:30 pm \nWe will follow the event with a light potluck. Feel free to bring something to share if you wish! (encouraged but not mandatory) \nDrop-ins are welcome\, but RSVPs are encouraged. Depending on the weather\, the physical yoga class may take place outdoors\, providing a refreshing and natural setting for us! \nFind feedback and photos from a similar event here: https://www.free-meditation.ca/archives/31723 \nTo inquire further\, please reach out to us at 100seedsofjoy@gmail.com or call 416-294-5118. \nWorkshop is free and open to all!
URL:https://100seedsofjoy.com/event/international-yoga-day-flow-2024/
LOCATION:Orchard Community Hub\, 2400 Sutton Drive\, Burlington\, Ontario\, L7L 7A9\, Canada
CATEGORIES:2024,In-person Meditation
ATTACH;FMTTYPE=image/png:https://100seedsofjoy.com/wp-content/uploads/2024/02/Canada-day-Meditation-3.png
END:VEVENT
END:VCALENDAR