BEGIN:VCALENDAR
VERSION:2.0
PRODID:-//100 Seeds Of Joy - ECPv6.15.17//NONSGML v1.0//EN
CALSCALE:GREGORIAN
METHOD:PUBLISH
X-ORIGINAL-URL:https://100seedsofjoy.com
X-WR-CALDESC:Events for 100 Seeds Of Joy
REFRESH-INTERVAL;VALUE=DURATION:PT1H
X-Robots-Tag:noindex
X-PUBLISHED-TTL:PT1H
BEGIN:VTIMEZONE
TZID:America/Toronto
BEGIN:DAYLIGHT
TZOFFSETFROM:-0500
TZOFFSETTO:-0400
TZNAME:EDT
DTSTART:20230312T070000
END:DAYLIGHT
BEGIN:STANDARD
TZOFFSETFROM:-0400
TZOFFSETTO:-0500
TZNAME:EST
DTSTART:20231105T060000
END:STANDARD
BEGIN:DAYLIGHT
TZOFFSETFROM:-0500
TZOFFSETTO:-0400
TZNAME:EDT
DTSTART:20240310T070000
END:DAYLIGHT
BEGIN:STANDARD
TZOFFSETFROM:-0400
TZOFFSETTO:-0500
TZNAME:EST
DTSTART:20241103T060000
END:STANDARD
BEGIN:DAYLIGHT
TZOFFSETFROM:-0500
TZOFFSETTO:-0400
TZNAME:EDT
DTSTART:20250309T070000
END:DAYLIGHT
BEGIN:STANDARD
TZOFFSETFROM:-0400
TZOFFSETTO:-0500
TZNAME:EST
DTSTART:20251102T060000
END:STANDARD
END:VTIMEZONE
BEGIN:VEVENT
DTSTART;TZID=America/Toronto:20240721T110000
DTEND;TZID=America/Toronto:20240721T121500
DTSTAMP:20260424T080255
CREATED:20240712T042222Z
LAST-MODIFIED:20240721T020228Z
UID:10004301-1721559600-1721564100@100seedsofjoy.com
SUMMARY:Experience Guru Purnima -- FREE Live Flute Music\, Guided Meditation **NEW LOCATION - GRAND OPENING**
DESCRIPTION:** SPECIAL & FREE GRAND OPENING EVENT **\nCelebrate the opening of SYMN’s new Oakville weekly meditation classes location!\n\nSahaja Yoga Meditation Network (SYMN) volunteers are the recipient of the Halton Volunteer Impact Award 2024.\n\nJoin us on Sunday July 21st at our new Oakville location for the FREE weekly themed Sahaja Yoga Meditation classes. \nWe take it as a good omen that the Guru Purnima festival falls on the very same day. Guru Purnima is a time when we honor our spiritual and academic teachers/guru.\n \n\nEVENT AGENDA:\nLive flute music & chakra workshop\nGuided meditation centered on self-realization\nA life dedicated to humanity & powers to heal (video presentation)\n\nWith this event\, we also intend to honour our spiritual guru\, Shri Mataji Nirmala Devi (1923 – 2011)\, the founder of Sahaja Yoga Meditation by offering a glimpse of Her legacy and vision for humanity. \nLight refreshments will be served (Indian chai & samosas)\n\nAddress: AN Global Consulting\, 2305 Wyecroft Rd.\, Oakville\, L6L 6R2\nDate: Sunday\, July 21st\, 11 am to 12:15 pm\nFREE and OPEN TO ALL! \nThis event in the news! Check out our blog here: https://www.free-meditation.ca/archives/34154 \nThis event is offered by Sahaja Yoga Meditation Network of volunteers based in Halton\, Ontario through their 100 Seeds of Joy community initiative. \n  \n  \n 
URL:https://100seedsofjoy.com/event/guru-purnima-oakville-2024/
LOCATION:AN Global Consulting\, 2305 Wyecroft Rd\, Oakville\, Ontario\, L6L 6R2\, Canada
CATEGORIES:2024,In-person Meditation,oakville
ATTACH;FMTTYPE=image/png:https://100seedsofjoy.com/wp-content/uploads/2024/07/EXPERIENCE-PURE-LOVE-WITH-SHRI-MATAJI.png
END:VEVENT
END:VCALENDAR