BEGIN:VCALENDAR
VERSION:2.0
PRODID:-//100 Seeds Of Joy - ECPv6.15.17//NONSGML v1.0//EN
CALSCALE:GREGORIAN
METHOD:PUBLISH
X-ORIGINAL-URL:https://100seedsofjoy.com
X-WR-CALDESC:Events for 100 Seeds Of Joy
REFRESH-INTERVAL;VALUE=DURATION:PT1H
X-Robots-Tag:noindex
X-PUBLISHED-TTL:PT1H
BEGIN:VTIMEZONE
TZID:UTC
BEGIN:STANDARD
TZOFFSETFROM:+0000
TZOFFSETTO:+0000
TZNAME:UTC
DTSTART:20220101T000000
END:STANDARD
END:VTIMEZONE
BEGIN:VEVENT
DTSTART;TZID=UTC:20230523T123000
DTEND;TZID=UTC:20230523T130000
DTSTAMP:20260422T133646
CREATED:20230523T194916Z
LAST-MODIFIED:20230523T194916Z
UID:10000042-1684845000-1684846800@100seedsofjoy.com
SUMMARY:Weekdays Free Online 30 minutes "Recharge" Lunch Meditation
DESCRIPTION:Join us online every weekday for a 30 minute guided lunchtime meditation.\nTake advantage of this session to relax\, de-stress and recharge your batteries. These sessions are FREE and for everyone. \nJoin using this Zoom Link: https://zoom.us/j/859102060
URL:https://100seedsofjoy.com/event/weekdays-free-online-30-minutes-recharge-lunch-meditation-13/
LOCATION:Online
CATEGORIES:Lunchtime Meditation
ATTACH;FMTTYPE=image/png:https://100seedsofjoy.com/wp-content/uploads/2023/04/Lunch-Meditation-Photo.png
END:VEVENT
END:VCALENDAR