BEGIN:VCALENDAR
VERSION:2.0
PRODID:-//100 Seeds Of Joy - ECPv6.15.17//NONSGML v1.0//EN
CALSCALE:GREGORIAN
METHOD:PUBLISH
X-WR-CALNAME:100 Seeds Of Joy
X-ORIGINAL-URL:https://100seedsofjoy.com
X-WR-CALDESC:Events for 100 Seeds Of Joy
REFRESH-INTERVAL;VALUE=DURATION:PT1H
X-Robots-Tag:noindex
X-PUBLISHED-TTL:PT1H
BEGIN:VTIMEZONE
TZID:America/Toronto
BEGIN:DAYLIGHT
TZOFFSETFROM:-0500
TZOFFSETTO:-0400
TZNAME:EDT
DTSTART:20250309T070000
END:DAYLIGHT
BEGIN:STANDARD
TZOFFSETFROM:-0400
TZOFFSETTO:-0500
TZNAME:EST
DTSTART:20251102T060000
END:STANDARD
BEGIN:DAYLIGHT
TZOFFSETFROM:-0500
TZOFFSETTO:-0400
TZNAME:EDT
DTSTART:20260308T070000
END:DAYLIGHT
BEGIN:STANDARD
TZOFFSETFROM:-0400
TZOFFSETTO:-0500
TZNAME:EST
DTSTART:20261101T060000
END:STANDARD
BEGIN:DAYLIGHT
TZOFFSETFROM:-0500
TZOFFSETTO:-0400
TZNAME:EDT
DTSTART:20270314T070000
END:DAYLIGHT
BEGIN:STANDARD
TZOFFSETFROM:-0400
TZOFFSETTO:-0500
TZNAME:EST
DTSTART:20271107T060000
END:STANDARD
END:VTIMEZONE
BEGIN:VEVENT
DTSTART;TZID=America/Toronto:20260424T123000
DTEND;TZID=America/Toronto:20260424T130000
DTSTAMP:20260424T182256
CREATED:20240104T175100Z
LAST-MODIFIED:20240104T175203Z
UID:10003921-1777033800-1777035600@100seedsofjoy.com
SUMMARY:Free Online 30 minutes "Recharge" Weekday Lunch Meditation
DESCRIPTION:Join us online every weekday for a 30 minute guided lunchtime meditation.\nTake advantage of this session to relax\, de-stress and recharge your batteries. These sessions are FREE and for everyone. \nJoin using this Zoom Link: https://zoom.us/j/859102060
URL:https://100seedsofjoy.com/event/lunch-meditations-2024/2026-04-24/
LOCATION:Online
CATEGORIES:2024,Online,Online Meditation
ATTACH;FMTTYPE=image/png:https://100seedsofjoy.com/wp-content/uploads/2023/04/Lunch-Meditation-Photo.png
END:VEVENT
BEGIN:VEVENT
DTSTART;TZID=America/Toronto:20260427T123000
DTEND;TZID=America/Toronto:20260427T130000
DTSTAMP:20260424T182256
CREATED:20240104T175100Z
LAST-MODIFIED:20240104T175203Z
UID:10003237-1777293000-1777294800@100seedsofjoy.com
SUMMARY:Free Online 30 minutes "Recharge" Weekday Lunch Meditation
DESCRIPTION:Join us online every weekday for a 30 minute guided lunchtime meditation.\nTake advantage of this session to relax\, de-stress and recharge your batteries. These sessions are FREE and for everyone. \nJoin using this Zoom Link: https://zoom.us/j/859102060
URL:https://100seedsofjoy.com/event/lunch-meditations-2024/2026-04-27/
LOCATION:Online
CATEGORIES:2024,Online,Online Meditation
ATTACH;FMTTYPE=image/png:https://100seedsofjoy.com/wp-content/uploads/2023/04/Lunch-Meditation-Photo.png
END:VEVENT
BEGIN:VEVENT
DTSTART;TZID=America/Toronto:20260428T123000
DTEND;TZID=America/Toronto:20260428T130000
DTSTAMP:20260424T182256
CREATED:20240104T175100Z
LAST-MODIFIED:20240104T175203Z
UID:10003238-1777379400-1777381200@100seedsofjoy.com
SUMMARY:Free Online 30 minutes "Recharge" Weekday Lunch Meditation
DESCRIPTION:Join us online every weekday for a 30 minute guided lunchtime meditation.\nTake advantage of this session to relax\, de-stress and recharge your batteries. These sessions are FREE and for everyone. \nJoin using this Zoom Link: https://zoom.us/j/859102060
URL:https://100seedsofjoy.com/event/lunch-meditations-2024/2026-04-28/
LOCATION:Online
CATEGORIES:2024,Online,Online Meditation
ATTACH;FMTTYPE=image/png:https://100seedsofjoy.com/wp-content/uploads/2023/04/Lunch-Meditation-Photo.png
END:VEVENT
BEGIN:VEVENT
DTSTART;TZID=America/Toronto:20260429T123000
DTEND;TZID=America/Toronto:20260429T130000
DTSTAMP:20260424T182256
CREATED:20240104T175100Z
LAST-MODIFIED:20240104T175203Z
UID:10003239-1777465800-1777467600@100seedsofjoy.com
SUMMARY:Free Online 30 minutes "Recharge" Weekday Lunch Meditation
DESCRIPTION:Join us online every weekday for a 30 minute guided lunchtime meditation.\nTake advantage of this session to relax\, de-stress and recharge your batteries. These sessions are FREE and for everyone. \nJoin using this Zoom Link: https://zoom.us/j/859102060
URL:https://100seedsofjoy.com/event/lunch-meditations-2024/2026-04-29/
LOCATION:Online
CATEGORIES:2024,Online,Online Meditation
ATTACH;FMTTYPE=image/png:https://100seedsofjoy.com/wp-content/uploads/2023/04/Lunch-Meditation-Photo.png
END:VEVENT
BEGIN:VEVENT
DTSTART;TZID=America/Toronto:20260430T123000
DTEND;TZID=America/Toronto:20260430T130000
DTSTAMP:20260424T182256
CREATED:20240104T175100Z
LAST-MODIFIED:20240104T175203Z
UID:10003240-1777552200-1777554000@100seedsofjoy.com
SUMMARY:Free Online 30 minutes "Recharge" Weekday Lunch Meditation
DESCRIPTION:Join us online every weekday for a 30 minute guided lunchtime meditation.\nTake advantage of this session to relax\, de-stress and recharge your batteries. These sessions are FREE and for everyone. \nJoin using this Zoom Link: https://zoom.us/j/859102060
URL:https://100seedsofjoy.com/event/lunch-meditations-2024/2026-04-30/
LOCATION:Online
CATEGORIES:2024,Online,Online Meditation
ATTACH;FMTTYPE=image/png:https://100seedsofjoy.com/wp-content/uploads/2023/04/Lunch-Meditation-Photo.png
END:VEVENT
END:VCALENDAR