BEGIN:VCALENDAR
VERSION:2.0
PRODID:-//100 Seeds Of Joy - ECPv6.15.17//NONSGML v1.0//EN
CALSCALE:GREGORIAN
METHOD:PUBLISH
X-WR-CALNAME:100 Seeds Of Joy
X-ORIGINAL-URL:https://100seedsofjoy.com
X-WR-CALDESC:Events for 100 Seeds Of Joy
REFRESH-INTERVAL;VALUE=DURATION:PT1H
X-Robots-Tag:noindex
X-PUBLISHED-TTL:PT1H
BEGIN:VTIMEZONE
TZID:America/Toronto
BEGIN:DAYLIGHT
TZOFFSETFROM:-0500
TZOFFSETTO:-0400
TZNAME:EDT
DTSTART:20220313T070000
END:DAYLIGHT
BEGIN:STANDARD
TZOFFSETFROM:-0400
TZOFFSETTO:-0500
TZNAME:EST
DTSTART:20221106T060000
END:STANDARD
BEGIN:DAYLIGHT
TZOFFSETFROM:-0500
TZOFFSETTO:-0400
TZNAME:EDT
DTSTART:20230312T070000
END:DAYLIGHT
BEGIN:STANDARD
TZOFFSETFROM:-0400
TZOFFSETTO:-0500
TZNAME:EST
DTSTART:20231105T060000
END:STANDARD
BEGIN:DAYLIGHT
TZOFFSETFROM:-0500
TZOFFSETTO:-0400
TZNAME:EDT
DTSTART:20240310T070000
END:DAYLIGHT
BEGIN:STANDARD
TZOFFSETFROM:-0400
TZOFFSETTO:-0500
TZNAME:EST
DTSTART:20241103T060000
END:STANDARD
END:VTIMEZONE
BEGIN:VTIMEZONE
TZID:UTC
BEGIN:STANDARD
TZOFFSETFROM:+0000
TZOFFSETTO:+0000
TZNAME:UTC
DTSTART:20220101T000000
END:STANDARD
END:VTIMEZONE
BEGIN:VEVENT
DTSTART;TZID=America/Toronto:20230802T193000
DTEND;TZID=America/Toronto:20230802T203000
DTSTAMP:20260422T030540
CREATED:20230425T183810Z
LAST-MODIFIED:20230823T044517Z
UID:10000025-1691004600-1691008200@100seedsofjoy.com
SUMMARY:Meditate on the Creative Energy Center
DESCRIPTION:Join us for unique themed meditations in-person on Wednesday evenings! \nGuided meditation and a chakra workshop will be incorporated into each session. \nWhere? Orchard Community Hub\, in St. Christopher’s Catholic Elementary School\, 2400 Sutton Dr\, Burlington L7L 7A9\nTime? 7:30 pm – 8:30 pm\nDays?  Aug 2\, Wednesday\nCost? Free! as they are priceless. They are offered with genuine love for Seekers from all walks of life. \n!! Feel free to bring anyone or share this invite. See you soon! \nEmail: contact@free-meditation.ca\nYoutube: https://www.youtube.com/@sharevidya7
URL:https://100seedsofjoy.com/event/aug-2-meditate-the-orchard-community-hub/
LOCATION:Orchard Community Hub\, 2400 Sutton Drive\, Burlington\, Ontario\, L7L 7A9\, Canada
CATEGORIES:In-person Meditation,Orchard Community Hub,Past Events
ATTACH;FMTTYPE=image/png:https://100seedsofjoy.com/wp-content/uploads/2023/04/Orchard-Meditation-2.png
END:VEVENT
BEGIN:VEVENT
DTSTART;TZID=UTC:20230809T193000
DTEND;TZID=UTC:20230809T203000
DTSTAMP:20260422T030540
CREATED:20230425T184016Z
LAST-MODIFIED:20230823T044527Z
UID:10000027-1691609400-1691613000@100seedsofjoy.com
SUMMARY:Aug 9: Work on the Creative Energy Center @ The Orchard Community Hub
DESCRIPTION:CJoin us for unique themed meditations in-person on Wednesday evenings! \nGuided meditation and a chakra workshop will be incorporated into each session. \nWhere? Orchard Community Hub\, in St. Christopher’s Catholic Elementary School\, 2400 Sutton Dr\, Burlington L7L 7A9\nTime? 7:30 pm – 8:30 pm\nDays?  Aug 9\, Wednesday\nCost? Free! as they are priceless. They are offered with genuine love for Seekers from all walks of life. \n!! Feel free to bring anyone or share this invite. See you soon! \nEmail: contact@free-meditation.ca\nYoutube: https://www.youtube.com/@sharevidya7
URL:https://100seedsofjoy.com/event/aug-9-meditate-the-orchard-community-hub-2/
LOCATION:Orchard Community Hub\, 2400 Sutton Drive\, Burlington\, Ontario\, L7L 7A9\, Canada
CATEGORIES:In-person Meditation,Orchard Community Hub,Past Events
ATTACH;FMTTYPE=image/png:https://100seedsofjoy.com/wp-content/uploads/2023/04/Orchard-Meditation-2.png
END:VEVENT
BEGIN:VEVENT
DTSTART;TZID=UTC:20230816T193000
DTEND;TZID=UTC:20230816T203000
DTSTAMP:20260422T030540
CREATED:20230425T184119Z
LAST-MODIFIED:20230823T044542Z
UID:10000028-1692214200-1692217800@100seedsofjoy.com
SUMMARY:Aug 16: Meditate @ The Orchard Community Hub
DESCRIPTION:Join us for unique themed meditations in-person on Wednesday evenings! \nGuided meditation and a chakra workshop will be incorporated into each session. \nWhere? Orchard Community Hub\, in St. Christopher’s Catholic Elementary School\, 2400 Sutton Dr\, Burlington L7L 7A9\nTime? 7:30 pm – 8:30 pm\nDays? Aug 16\, Wednesday\nCost? Free! as they are priceless. They are offered with genuine love for Seekers from all walks of life. \n!! Feel free to bring anyone or share this invite. See you soon! \nEmail: contact@free-meditation.ca\nYoutube: https://www.youtube.com/@sharevidya7
URL:https://100seedsofjoy.com/event/aug-16-meditate-the-orchard-community-hub/
LOCATION:Orchard Community Hub\, 2400 Sutton Drive\, Burlington\, Ontario\, L7L 7A9\, Canada
CATEGORIES:In-person Meditation,Orchard Community Hub,Past Events
ATTACH;FMTTYPE=image/png:https://100seedsofjoy.com/wp-content/uploads/2023/04/Orchard-Meditation-2.png
END:VEVENT
BEGIN:VEVENT
DTSTART;TZID=America/Toronto:20230823T193000
DTEND;TZID=America/Toronto:20230823T203000
DTSTAMP:20260422T030540
CREATED:20230425T184236Z
LAST-MODIFIED:20230914T063253Z
UID:10000029-1692819000-1692822600@100seedsofjoy.com
SUMMARY:Aug 23: Meditate @ The Orchard Community Hub
DESCRIPTION:Join us for unique themed meditations in-person on Wednesday evenings! \nGuided meditation and a chakra workshop will be incorporated into each session. \nWhere? Orchard Community Hub\, in St. Christopher’s Catholic Elementary School\, 2400 Sutton Dr\, Burlington L7L 7A9\nTime? 7:30 pm – 8:30 pm\nDays?  Aug 23\,  Wednesday\nCost? Free! as they are priceless. They are offered with genuine love for Seekers from all walks of life. \n!! Feel free to bring anyone or share this invite. See you soon! \nEmail: contact@free-meditation.ca\nYoutube: https://www.youtube.com/@sharevidya7
URL:https://100seedsofjoy.com/event/aug-23-meditate-the-orchard-community-hub/
LOCATION:Orchard Community Hub\, 2400 Sutton Drive\, Burlington\, Ontario\, L7L 7A9\, Canada
CATEGORIES:In-person Meditation,Orchard Community Hub,Past Events
ATTACH;FMTTYPE=image/png:https://100seedsofjoy.com/wp-content/uploads/2023/04/Orchard-Meditation-2.png
END:VEVENT
BEGIN:VEVENT
DTSTART;TZID=America/Toronto:20230830T193000
DTEND;TZID=America/Toronto:20230830T203000
DTSTAMP:20260422T030540
CREATED:20230425T184340Z
LAST-MODIFIED:20230914T063240Z
UID:10000030-1693423800-1693427400@100seedsofjoy.com
SUMMARY:Aug 30: Meditate @ The Orchard Community Hub
DESCRIPTION:Join us for unique themed meditations in-person on Wednesday evenings! \nGuided meditation and a chakra workshop will be incorporated into each session. \nWhere? Orchard Community Hub\, in St. Christopher’s Catholic Elementary School\, 2400 Sutton Dr\, Burlington L7L 7A9\nTime? 7:30 pm – 8:30 pm\nDays?  Aug 30\, Wednesday\nCost? Free! as they are priceless. They are offered with genuine love for Seekers from all walks of life. \n!! Feel free to bring anyone or share this invite. See you soon! \nEmail: contact@free-meditation.ca\nYoutube: https://www.youtube.com/@sharevidya7
URL:https://100seedsofjoy.com/event/aug-30-meditate-the-orchard-community-hub/
LOCATION:Orchard Community Hub\, 2400 Sutton Drive\, Burlington\, Ontario\, L7L 7A9\, Canada
CATEGORIES:In-person Meditation,Orchard Community Hub,Past Events
ATTACH;FMTTYPE=image/png:https://100seedsofjoy.com/wp-content/uploads/2023/04/Orchard-Meditation-2.png
END:VEVENT
END:VCALENDAR