BEGIN:VCALENDAR
VERSION:2.0
PRODID:-//100 Seeds Of Joy - ECPv6.15.17//NONSGML v1.0//EN
CALSCALE:GREGORIAN
METHOD:PUBLISH
X-WR-CALNAME:100 Seeds Of Joy
X-ORIGINAL-URL:https://100seedsofjoy.com
X-WR-CALDESC:Events for 100 Seeds Of Joy
REFRESH-INTERVAL;VALUE=DURATION:PT1H
X-Robots-Tag:noindex
X-PUBLISHED-TTL:PT1H
BEGIN:VTIMEZONE
TZID:America/Toronto
BEGIN:DAYLIGHT
TZOFFSETFROM:-0500
TZOFFSETTO:-0400
TZNAME:EDT
DTSTART:20230312T070000
END:DAYLIGHT
BEGIN:STANDARD
TZOFFSETFROM:-0400
TZOFFSETTO:-0500
TZNAME:EST
DTSTART:20231105T060000
END:STANDARD
BEGIN:DAYLIGHT
TZOFFSETFROM:-0500
TZOFFSETTO:-0400
TZNAME:EDT
DTSTART:20240310T070000
END:DAYLIGHT
BEGIN:STANDARD
TZOFFSETFROM:-0400
TZOFFSETTO:-0500
TZNAME:EST
DTSTART:20241103T060000
END:STANDARD
BEGIN:DAYLIGHT
TZOFFSETFROM:-0500
TZOFFSETTO:-0400
TZNAME:EDT
DTSTART:20250309T070000
END:DAYLIGHT
BEGIN:STANDARD
TZOFFSETFROM:-0400
TZOFFSETTO:-0500
TZNAME:EST
DTSTART:20251102T060000
END:STANDARD
END:VTIMEZONE
BEGIN:VEVENT
DTSTART;TZID=America/Toronto:20240803T110000
DTEND;TZID=America/Toronto:20240803T123000
DTSTAMP:20260419T100738
CREATED:20240626T033133Z
LAST-MODIFIED:20240829T031015Z
UID:10004173-1722682800-1722688200@100seedsofjoy.com
SUMMARY:Meditation as Dedication to Civic Holiday - 2024
DESCRIPTION:Where: Orchard Community Hub located within St. Christopher’s Catholic Elementary School on 2400 Sutton Dr\, ON L7L 7A9 (entrance across Easton Road). \nWhen: Saturday\, July 6th at 11 am to 12:30 pm \nTo inquire further\, please reach out to us at 100seedsofjoy@gmail.com or call 416-294-5118. \nWorkshop is free and open to all!
URL:https://100seedsofjoy.com/event/civic-holiday-2024/
LOCATION:Orchard Community Hub\, 2400 Sutton Drive\, Burlington\, Ontario\, L7L 7A9\, Canada
CATEGORIES:2024,In-person Meditation,Orchard Community Hub,Outdoor Nature
ATTACH;FMTTYPE=image/png:https://100seedsofjoy.com/wp-content/uploads/2024/06/civic-holiday-1.png
END:VEVENT
BEGIN:VEVENT
DTSTART;TZID=America/Toronto:20240807T193000
DTEND;TZID=America/Toronto:20240807T203000
DTSTAMP:20260419T100738
CREATED:20240807T014508Z
LAST-MODIFIED:20240807T042435Z
UID:10002007-1723059000-1723062600@100seedsofjoy.com
SUMMARY:Meditate @ The Orchard Community Hub -- Special Theme: Meditate with Indigenous Peoples' Wisdom - Part 1
DESCRIPTION:Join us for unique themed meditations in-person on Wednesday evenings! This Week’s class is dedicated to International Day of the World’s Indigenous Peoples \nGuided meditation and a chakra workshop will be incorporated into each session. \nWhere? Orchard Community Hub\, in St. Christopher’s Catholic Elementary School\, 2400 Sutton Dr\, Burlington L7L 7A9 (entrance across Easton Road)\nTime? 7:30 pm – 8:30 pm\nDays?  Wednesdays\nCost? Free! as they are priceless. They are offered with genuine love for Seekers from all walks of life. \n!! Feel free to bring anyone or share this invite. See you soon! \nEmail: contact@free-meditation.ca\nYoutube: https://www.youtube.com/@sharevidya7
URL:https://100seedsofjoy.com/event/indigineous-wisdom-part-1-orchard/
LOCATION:Orchard Community Hub\, 2400 Sutton Drive\, Burlington\, Ontario\, L7L 7A9\, Canada
CATEGORIES:In-person,In-person Meditation,Orchard Community Hub
ATTACH;FMTTYPE=image/png:https://100seedsofjoy.com/wp-content/uploads/2024/08/Copy-of-feb-25-inner-balance-flute-music.png
END:VEVENT
BEGIN:VEVENT
DTSTART;TZID=America/Toronto:20240814T193000
DTEND;TZID=America/Toronto:20240814T203000
DTSTAMP:20260419T100738
CREATED:20240807T030931Z
LAST-MODIFIED:20240814T010737Z
UID:10002008-1723663800-1723667400@100seedsofjoy.com
SUMMARY:Meditate @ The Orchard Community Hub -- Special Themes Each Week! Meditate with Indigenous Peoples’ Wisdom & Music - Part 2
DESCRIPTION:Join us for unique themed meditations in-person on Wednesday evenings! \nGuided meditation and a chakra workshop will be incorporated into each session. \nWhere? Orchard Community Hub\, in St. Christopher’s Catholic Elementary School\, 2400 Sutton Dr\, Burlington L7L 7A9 (entrance across Easton Road)\nTime? 7:30 pm – 8:30 pm\nDays?  Wednesdays\nCost? Free! as they are priceless. They are offered with genuine love for Seekers from all walks of life. \n!! Feel free to bring anyone or share this invite. See you soon! \nEmail: contact@free-meditation.ca\nYoutube: https://www.youtube.com/@sharevidya7
URL:https://100seedsofjoy.com/event/indigenous-wisdom-part-2/
LOCATION:Orchard Community Hub\, 2400 Sutton Drive\, Burlington\, Ontario\, L7L 7A9\, Canada
CATEGORIES:In-person,In-person Meditation,Orchard Community Hub
ATTACH;FMTTYPE=image/png:https://100seedsofjoy.com/wp-content/uploads/2024/07/Copy-of-feb-25-inner-balance-flute-music-1.png
END:VEVENT
BEGIN:VEVENT
DTSTART;TZID=America/Toronto:20240821T193000
DTEND;TZID=America/Toronto:20240821T210000
DTSTAMP:20260419T100738
CREATED:20240807T042159Z
LAST-MODIFIED:20240807T042619Z
UID:10004374-1724268600-1724274000@100seedsofjoy.com
SUMMARY:Experience India Part 2: Yoga Bhoomi Session with Sahaja Yoga Meditation
DESCRIPTION:This August\, join us for a unique two part “Experience India” series. \nEach program will be unique. The live segments will be offered in English\, with notes available in Hindi. \nPart 2: Yoga Bhoomi (The Land of Yoga) Session with Sahaja Yoga Meditation \n\nIntro to Chakras\, Nadis and Subtle Energy System\nSelf-Realization Experiment \nBalancing of Moon & Sun Channels \nPotluck (Indian themed)\n\nWhere? Orchard Community Hub\, in St. Christopher’s Catholic Elementary School\, 2400 Sutton Dr\, Burlington L7L 7A9 (entrance across Easton Road)\nTime? 7:30 pm – 9 pm\nDays?  Wednesday\, August 21\nCost? Free! \nDon’t forget to share the Invite with your family and friends\, and especially with anyone that might really needs to “go deeper” into learning and appreciating the very special spiritual heritage that India is offering as The Land of Yoga to all humanity. \nFrom our blog (click to read!): Experiencing India as The Land of God – by Cleopatra David (PhD\, Alumni)
URL:https://100seedsofjoy.com/event/experience-india-part-2-burlington-2024/
LOCATION:Orchard Community Hub\, 2400 Sutton Drive\, Burlington\, Ontario\, L7L 7A9\, Canada
CATEGORIES:2024,In-person Meditation,Orchard Community Hub
ATTACH;FMTTYPE=image/png:https://100seedsofjoy.com/wp-content/uploads/2024/07/IMG_5915.png
END:VEVENT
BEGIN:VEVENT
DTSTART;TZID=America/Toronto:20240828T193000
DTEND;TZID=America/Toronto:20240828T203000
DTSTAMP:20260419T100738
CREATED:20240123T001242Z
LAST-MODIFIED:20240123T001243Z
UID:10002010-1724873400-1724877000@100seedsofjoy.com
SUMMARY:Meditate @ The Orchard Community Hub -- Special Themes Each Week!
DESCRIPTION:Join us for unique themed meditations in-person on Wednesday evenings! \nGuided meditation and a chakra workshop will be incorporated into each session. \nWhere? Orchard Community Hub\, in St. Christopher’s Catholic Elementary School\, 2400 Sutton Dr\, Burlington L7L 7A9 (entrance across Easton Road)\nTime? 7:30 pm – 8:30 pm\nDays?  Wednesdays\nCost? Free! as they are priceless. They are offered with genuine love for Seekers from all walks of life. \n!! Feel free to bring anyone or share this invite. See you soon! \nEmail: contact@free-meditation.ca\nYoutube: https://www.youtube.com/@sharevidya7
URL:https://100seedsofjoy.com/event/meditate-the-orchard-community-hub-special-themes-each-week-3/2024-08-28/
LOCATION:Orchard Community Hub\, 2400 Sutton Drive\, Burlington\, Ontario\, L7L 7A9\, Canada
CATEGORIES:In-person,In-person Meditation,Orchard Community Hub
ATTACH;FMTTYPE=image/png:https://100seedsofjoy.com/wp-content/uploads/2023/08/Orchard-Meditation-3.png
END:VEVENT
END:VCALENDAR