BEGIN:VCALENDAR
VERSION:2.0
PRODID:-//100 Seeds Of Joy - ECPv6.15.17//NONSGML v1.0//EN
CALSCALE:GREGORIAN
METHOD:PUBLISH
X-WR-CALNAME:100 Seeds Of Joy
X-ORIGINAL-URL:https://100seedsofjoy.com
X-WR-CALDESC:Events for 100 Seeds Of Joy
REFRESH-INTERVAL;VALUE=DURATION:PT1H
X-Robots-Tag:noindex
X-PUBLISHED-TTL:PT1H
BEGIN:VTIMEZONE
TZID:UTC
BEGIN:STANDARD
TZOFFSETFROM:+0000
TZOFFSETTO:+0000
TZNAME:UTC
DTSTART:20220101T000000
END:STANDARD
END:VTIMEZONE
BEGIN:VEVENT
DTSTART;TZID=UTC:20230816T193000
DTEND;TZID=UTC:20230816T203000
DTSTAMP:20260424T070733
CREATED:20230425T184119Z
LAST-MODIFIED:20230823T044542Z
UID:10000028-1692214200-1692217800@100seedsofjoy.com
SUMMARY:Aug 16: Meditate @ The Orchard Community Hub
DESCRIPTION:Join us for unique themed meditations in-person on Wednesday evenings! \nGuided meditation and a chakra workshop will be incorporated into each session. \nWhere? Orchard Community Hub\, in St. Christopher’s Catholic Elementary School\, 2400 Sutton Dr\, Burlington L7L 7A9\nTime? 7:30 pm – 8:30 pm\nDays? Aug 16\, Wednesday\nCost? Free! as they are priceless. They are offered with genuine love for Seekers from all walks of life. \n!! Feel free to bring anyone or share this invite. See you soon! \nEmail: contact@free-meditation.ca\nYoutube: https://www.youtube.com/@sharevidya7
URL:https://100seedsofjoy.com/event/aug-16-meditate-the-orchard-community-hub/
LOCATION:Orchard Community Hub\, 2400 Sutton Drive\, Burlington\, Ontario\, L7L 7A9\, Canada
CATEGORIES:In-person Meditation,Orchard Community Hub,Past Events
ATTACH;FMTTYPE=image/png:https://100seedsofjoy.com/wp-content/uploads/2023/04/Orchard-Meditation-2.png
END:VEVENT
END:VCALENDAR