BEGIN:VCALENDAR
VERSION:2.0
PRODID:-//100 Seeds Of Joy - ECPv6.15.17//NONSGML v1.0//EN
CALSCALE:GREGORIAN
METHOD:PUBLISH
X-ORIGINAL-URL:https://100seedsofjoy.com
X-WR-CALDESC:Events for 100 Seeds Of Joy
REFRESH-INTERVAL;VALUE=DURATION:PT1H
X-Robots-Tag:noindex
X-PUBLISHED-TTL:PT1H
BEGIN:VTIMEZONE
TZID:America/Toronto
BEGIN:DAYLIGHT
TZOFFSETFROM:-0500
TZOFFSETTO:-0400
TZNAME:EDT
DTSTART:20230312T070000
END:DAYLIGHT
BEGIN:STANDARD
TZOFFSETFROM:-0400
TZOFFSETTO:-0500
TZNAME:EST
DTSTART:20231105T060000
END:STANDARD
BEGIN:DAYLIGHT
TZOFFSETFROM:-0500
TZOFFSETTO:-0400
TZNAME:EDT
DTSTART:20240310T070000
END:DAYLIGHT
BEGIN:STANDARD
TZOFFSETFROM:-0400
TZOFFSETTO:-0500
TZNAME:EST
DTSTART:20241103T060000
END:STANDARD
BEGIN:DAYLIGHT
TZOFFSETFROM:-0500
TZOFFSETTO:-0400
TZNAME:EDT
DTSTART:20250309T070000
END:DAYLIGHT
BEGIN:STANDARD
TZOFFSETFROM:-0400
TZOFFSETTO:-0500
TZNAME:EST
DTSTART:20251102T060000
END:STANDARD
END:VTIMEZONE
BEGIN:VEVENT
DTSTART;TZID=America/Toronto:20241020T110000
DTEND;TZID=America/Toronto:20241020T110000
DTSTAMP:20260419T082300
CREATED:20240926T135307Z
LAST-MODIFIED:20240926T143324Z
UID:10014701-1729422000-1729422000@100seedsofjoy.com
SUMMARY:Thanksgiving and Diwali Fest - Part 1 (Nabhi Chakra & Creativity) - Meditate & Create "Diyas" 🪔
DESCRIPTION:Join us for part 1 of the Thanksgiving and Diwali Fest: \n— Collective Meditation\n— Chakra (subtle energy) Workshop\n— Diya making\n— Celebrate Collectively the Inner Light Within \nCome with an open Heart & Mind – you might be surprised \nWe will also have a community potluck! Participation is encouraged but not mandatory 🙂 \nWhere? Orchard Community Hub\, in St. Christopher’s Catholic Elementary School\, 2400 Sutton Dr\, Burlington L7L 7A9 (entrance across Easton Road)\nTime? 11 am to 1 pm\nDays?  Sunday October 20\nCost? Free!
URL:https://100seedsofjoy.com/event/thanksgiving-diwali-part1-2024/
LOCATION:Orchard Community Hub\, 2400 Sutton Drive\, Burlington\, Ontario\, L7L 7A9\, Canada
CATEGORIES:2024,In-person Meditation,Orchard Community Hub
ATTACH;FMTTYPE=image/png:https://100seedsofjoy.com/wp-content/uploads/2024/09/thanksgiving-2024-and-diwali-2024-18-x-24-in-1.png
END:VEVENT
END:VCALENDAR