BEGIN:VCALENDAR
VERSION:2.0
PRODID:-//100 Seeds Of Joy - ECPv6.15.17//NONSGML v1.0//EN
CALSCALE:GREGORIAN
METHOD:PUBLISH
X-ORIGINAL-URL:https://100seedsofjoy.com
X-WR-CALDESC:Events for 100 Seeds Of Joy
REFRESH-INTERVAL;VALUE=DURATION:PT1H
X-Robots-Tag:noindex
X-PUBLISHED-TTL:PT1H
BEGIN:VTIMEZONE
TZID:America/Toronto
BEGIN:DAYLIGHT
TZOFFSETFROM:-0500
TZOFFSETTO:-0400
TZNAME:EDT
DTSTART:20230312T070000
END:DAYLIGHT
BEGIN:STANDARD
TZOFFSETFROM:-0400
TZOFFSETTO:-0500
TZNAME:EST
DTSTART:20231105T060000
END:STANDARD
BEGIN:DAYLIGHT
TZOFFSETFROM:-0500
TZOFFSETTO:-0400
TZNAME:EDT
DTSTART:20240310T070000
END:DAYLIGHT
BEGIN:STANDARD
TZOFFSETFROM:-0400
TZOFFSETTO:-0500
TZNAME:EST
DTSTART:20241103T060000
END:STANDARD
BEGIN:DAYLIGHT
TZOFFSETFROM:-0500
TZOFFSETTO:-0400
TZNAME:EDT
DTSTART:20250309T070000
END:DAYLIGHT
BEGIN:STANDARD
TZOFFSETFROM:-0400
TZOFFSETTO:-0500
TZNAME:EST
DTSTART:20251102T060000
END:STANDARD
END:VTIMEZONE
BEGIN:VEVENT
DTSTART;TZID=America/Toronto:20241110T110000
DTEND;TZID=America/Toronto:20241110T123000
DTSTAMP:20260419T082300
CREATED:20241031T022440Z
LAST-MODIFIED:20241109T160628Z
UID:10013304-1731236400-1731241800@100seedsofjoy.com
SUMMARY:Inner Prep for Inner Lights! - Going Deeper Seminar
DESCRIPTION:with guided meditation\, chakra workshop\, creativity and a potluck! \nPrepare for the upcoming Festival of Inner Lights with us at this going deeper seminar! ++ explore how you can volunteer and help for the big day! \nWhere? Orchard Community Hub\, in St. Christopher’s Catholic Elementary School\, 2400 Sutton Dr\, Burlington L7L 7A9 (entrance across Easton Road)\nTime? 11 am – 12:30 pm\nDays?  Sunday\, November 10\nCost? Free!
URL:https://100seedsofjoy.com/event/sunday-seminar-nov-10-2024/
LOCATION:Orchard Community Hub\, 2400 Sutton Drive\, Burlington\, Ontario\, L7L 7A9\, Canada
CATEGORIES:2024,In-person Meditation,Orchard Community Hub
ATTACH;FMTTYPE=image/png:https://100seedsofjoy.com/wp-content/uploads/2024/10/prepare-your-inner-lights-seminar.png
END:VEVENT
END:VCALENDAR