BEGIN:VCALENDAR
VERSION:2.0
PRODID:-//100 Seeds Of Joy - ECPv6.15.17//NONSGML v1.0//EN
CALSCALE:GREGORIAN
METHOD:PUBLISH
X-ORIGINAL-URL:https://100seedsofjoy.com
X-WR-CALDESC:Events for 100 Seeds Of Joy
REFRESH-INTERVAL;VALUE=DURATION:PT1H
X-Robots-Tag:noindex
X-PUBLISHED-TTL:PT1H
BEGIN:VTIMEZONE
TZID:America/Toronto
BEGIN:DAYLIGHT
TZOFFSETFROM:-0500
TZOFFSETTO:-0400
TZNAME:EDT
DTSTART:20240310T070000
END:DAYLIGHT
BEGIN:STANDARD
TZOFFSETFROM:-0400
TZOFFSETTO:-0500
TZNAME:EST
DTSTART:20241103T060000
END:STANDARD
BEGIN:DAYLIGHT
TZOFFSETFROM:-0500
TZOFFSETTO:-0400
TZNAME:EDT
DTSTART:20250309T070000
END:DAYLIGHT
BEGIN:STANDARD
TZOFFSETFROM:-0400
TZOFFSETTO:-0500
TZNAME:EST
DTSTART:20251102T060000
END:STANDARD
BEGIN:DAYLIGHT
TZOFFSETFROM:-0500
TZOFFSETTO:-0400
TZNAME:EDT
DTSTART:20260308T070000
END:DAYLIGHT
BEGIN:STANDARD
TZOFFSETFROM:-0400
TZOFFSETTO:-0500
TZNAME:EST
DTSTART:20261101T060000
END:STANDARD
END:VTIMEZONE
BEGIN:VEVENT
DTSTART;TZID=America/Toronto:20250225T190000
DTEND;TZID=America/Toronto:20250225T200000
DTSTAMP:20260422T065817
CREATED:20241216T030843Z
LAST-MODIFIED:20250222T171501Z
UID:10014726-1740510000-1740513600@100seedsofjoy.com
SUMMARY:Inner Balance with Flute Music and Meditation
DESCRIPTION:Relax and unwind at a unique afternoon of music and meditation with classically-trained musician and meditator\, Shivangna. \nEnjoy a guided meditation to experience inner calm and balance\, accompanied by the soothing sounds of the Bansuri\, an Indian bamboo flute. Our presenter wraps up with Q & A session. \nPlease arrive at least 10 minutes before the program is scheduled to start to help create a serene atmosphere for all participants. \nRegister Here: https://attend.bpl.on.ca/event/12671131
URL:https://100seedsofjoy.com/event/feb-25-2025/
LOCATION:Centennial Hall\, Central Library Burlington\, 2331 New Street\, Burlington\, Ontario\, L7R 1J4\, Canada
CATEGORIES:2025,In-person Meditation,Orchard Community Hub
ATTACH;FMTTYPE=image/png:https://100seedsofjoy.com/wp-content/uploads/2024/12/inner-balance-flute-music-and-meditation.png
END:VEVENT
END:VCALENDAR