BEGIN:VCALENDAR
VERSION:2.0
PRODID:-//100 Seeds Of Joy - ECPv6.15.17//NONSGML v1.0//EN
CALSCALE:GREGORIAN
METHOD:PUBLISH
X-WR-CALNAME:100 Seeds Of Joy
X-ORIGINAL-URL:https://100seedsofjoy.com
X-WR-CALDESC:Events for 100 Seeds Of Joy
REFRESH-INTERVAL;VALUE=DURATION:PT1H
X-Robots-Tag:noindex
X-PUBLISHED-TTL:PT1H
BEGIN:VTIMEZONE
TZID:America/Toronto
BEGIN:DAYLIGHT
TZOFFSETFROM:-0500
TZOFFSETTO:-0400
TZNAME:EDT
DTSTART:20230312T070000
END:DAYLIGHT
BEGIN:STANDARD
TZOFFSETFROM:-0400
TZOFFSETTO:-0500
TZNAME:EST
DTSTART:20231105T060000
END:STANDARD
BEGIN:DAYLIGHT
TZOFFSETFROM:-0500
TZOFFSETTO:-0400
TZNAME:EDT
DTSTART:20240310T070000
END:DAYLIGHT
BEGIN:STANDARD
TZOFFSETFROM:-0400
TZOFFSETTO:-0500
TZNAME:EST
DTSTART:20241103T060000
END:STANDARD
BEGIN:DAYLIGHT
TZOFFSETFROM:-0500
TZOFFSETTO:-0400
TZNAME:EDT
DTSTART:20250309T070000
END:DAYLIGHT
BEGIN:STANDARD
TZOFFSETFROM:-0400
TZOFFSETTO:-0500
TZNAME:EST
DTSTART:20251102T060000
END:STANDARD
BEGIN:DAYLIGHT
TZOFFSETFROM:-0500
TZOFFSETTO:-0400
TZNAME:EDT
DTSTART:20260308T070000
END:DAYLIGHT
BEGIN:STANDARD
TZOFFSETFROM:-0400
TZOFFSETTO:-0500
TZNAME:EST
DTSTART:20261101T060000
END:STANDARD
END:VTIMEZONE
BEGIN:VEVENT
DTSTART;TZID=America/Toronto:20251028T190000
DTEND;TZID=America/Toronto:20251028T200000
DTSTAMP:20260421T071618
CREATED:20251020T025857Z
LAST-MODIFIED:20251020T025857Z
UID:10014806-1761678000-1761681600@100seedsofjoy.com
SUMMARY:Inner Balance with Flute Music & Meditation
DESCRIPTION:
URL:https://100seedsofjoy.com/event/oct-28-2025/
LOCATION:New Appleby Branch\, 676 Appleby Line\, Burlington\, ON\, L7L 5Y1\, Canada
CATEGORIES:2025,In-person Meditation
ATTACH;FMTTYPE=image/png:https://100seedsofjoy.com/wp-content/uploads/2025/10/flute-music-meditation.png
END:VEVENT
BEGIN:VEVENT
DTSTART;TZID=America/Toronto:20241008T190000
DTEND;TZID=America/Toronto:20241008T200000
DTSTAMP:20260421T071618
CREATED:20240926T025531Z
LAST-MODIFIED:20241002T200216Z
UID:10014699-1728414000-1728417600@100seedsofjoy.com
SUMMARY:Flute Meditation and Meditation @ New Appleby Branch
DESCRIPTION:An 100 Seeds of Joy event in collaboration with the Burlington Public Library. \nExperience the soothing sounds of the Bansuri\, an Indian bamboo flute\, and learn about mental silence and its benefits. Following some simple exercises to promote calmness and tranquillity\, our presenter wraps up with Q & A session. \nPlease arrive at least 15 minutes before the program is scheduled to start to help create a serene atmosphere for all participants. Comfortable clothing is recommended. \nFeel free to RSVP here: https://attend.bpl.on.ca/event/11549917
URL:https://100seedsofjoy.com/event/flute-october-2024/
LOCATION:New Appleby Branch\, 676 Appleby Line\, Burlington\, ON\, L7L 5Y1\, Canada
CATEGORIES:2024,In-person Meditation
ATTACH;FMTTYPE=image/png:https://100seedsofjoy.com/wp-content/uploads/2024/09/SEPT-24-Flute-meditation-and-inner-peace-1.png
END:VEVENT
END:VCALENDAR